BEGIN:VCALENDAR
VERSION:2.0
PRODID:-//ABAS - ECPv6.15.20//NONSGML v1.0//EN
CALSCALE:GREGORIAN
METHOD:PUBLISH
X-WR-CALNAME:ABAS
X-ORIGINAL-URL:https://abassacramento.com
X-WR-CALDESC:Events for ABAS
REFRESH-INTERVAL;VALUE=DURATION:PT1H
X-Robots-Tag:noindex
X-PUBLISHED-TTL:PT1H
BEGIN:VTIMEZONE
TZID:America/Denver
BEGIN:DAYLIGHT
TZOFFSETFROM:-0700
TZOFFSETTO:-0600
TZNAME:MDT
DTSTART:20250309T090000
END:DAYLIGHT
BEGIN:STANDARD
TZOFFSETFROM:-0600
TZOFFSETTO:-0700
TZNAME:MST
DTSTART:20251102T080000
END:STANDARD
BEGIN:DAYLIGHT
TZOFFSETFROM:-0700
TZOFFSETTO:-0600
TZNAME:MDT
DTSTART:20260308T090000
END:DAYLIGHT
BEGIN:STANDARD
TZOFFSETFROM:-0600
TZOFFSETTO:-0700
TZNAME:MST
DTSTART:20261101T080000
END:STANDARD
BEGIN:DAYLIGHT
TZOFFSETFROM:-0700
TZOFFSETTO:-0600
TZNAME:MDT
DTSTART:20270314T090000
END:DAYLIGHT
BEGIN:STANDARD
TZOFFSETFROM:-0600
TZOFFSETTO:-0700
TZNAME:MST
DTSTART:20271107T080000
END:STANDARD
END:VTIMEZONE
BEGIN:VEVENT
DTSTART;TZID=America/Denver:20260319T173000
DTEND;TZID=America/Denver:20260319T193000
DTSTAMP:20260422T105620
CREATED:20260319T033915Z
LAST-MODIFIED:20260319T033915Z
UID:5773-1773941400-1773948600@abassacramento.com
SUMMARY:ABAS Mixer
DESCRIPTION:Register here: https://mcgeorge.wufoo.com/forms/abas-march-social-event/ \nMembers: Free\nNon-Members: $20
URL:https://abassacramento.com/event/abas-mixer/
LOCATION:Bear & Crown\, 1022 2nd St.\, Sacramento\, CA\, 95814\, United States
END:VEVENT
BEGIN:VEVENT
DTSTART;VALUE=DATE:20260320
DTEND;VALUE=DATE:20260323
DTSTAMP:20260422T105620
CREATED:20260222T210259Z
LAST-MODIFIED:20260222T210259Z
UID:5639-1773964800-1774223999@abassacramento.com
SUMMARY:Pinay Powerhouse Conference
DESCRIPTION:9th Annual Conference\, hosted by SacFALA
URL:https://abassacramento.com/event/pinay-powerhouse-conference/
LOCATION:McGeorge School of Law\, 3200 5th Avenue\, Sacramento\, CA\, 95817\, United States
END:VEVENT
BEGIN:VEVENT
DTSTART;VALUE=DATE:20260324
DTEND;VALUE=DATE:20260325
DTSTAMP:20260422T105620
CREATED:20260222T210627Z
LAST-MODIFIED:20260222T210627Z
UID:5643-1774310400-1774396799@abassacramento.com
SUMMARY:APAPA Sacramento - Women of Distinction Awards
DESCRIPTION:Honoring Patrice De Guzman Huber with the Visionary Leader Award
URL:https://abassacramento.com/event/apapa-sacramento-women-of-distinction-awards/
END:VEVENT
BEGIN:VEVENT
DTSTART;VALUE=DATE:20260324
DTEND;VALUE=DATE:20260325
DTSTAMP:20260422T105620
CREATED:20260319T033953Z
LAST-MODIFIED:20260319T033953Z
UID:5777-1774310400-1774396799@abassacramento.com
SUMMARY:CalAsian Chamber's Legislative Day
DESCRIPTION:
URL:https://abassacramento.com/event/calasian-chambers-legislative-day/
CATEGORIES:Other Events
END:VEVENT
BEGIN:VEVENT
DTSTART;TZID=America/Denver:20260326T120000
DTEND;TZID=America/Denver:20260326T130000
DTSTAMP:20260422T105620
CREATED:20260319T034125Z
LAST-MODIFIED:20260319T034125Z
UID:5779-1774526400-1774530000@abassacramento.com
SUMMARY:NAPABA Webinar: SCOTUS Oral Argument Preview: Defending Birthright Citizenship
DESCRIPTION:Register here: https://www.napaba.org/events/EventDetails.aspx?id=2042317&group=
URL:https://abassacramento.com/event/napaba-webinar-scotus-oral-argument-preview-defending-birthright-citizenship/
END:VEVENT
END:VCALENDAR