BEGIN:VCALENDAR
VERSION:2.0
PRODID:-//ABAS - ECPv6.15.20//NONSGML v1.0//EN
CALSCALE:GREGORIAN
METHOD:PUBLISH
X-ORIGINAL-URL:https://abassacramento.com
X-WR-CALDESC:Events for ABAS
REFRESH-INTERVAL;VALUE=DURATION:PT1H
X-Robots-Tag:noindex
X-PUBLISHED-TTL:PT1H
BEGIN:VTIMEZONE
TZID:America/Denver
BEGIN:DAYLIGHT
TZOFFSETFROM:-0700
TZOFFSETTO:-0600
TZNAME:MDT
DTSTART:20240310T090000
END:DAYLIGHT
BEGIN:STANDARD
TZOFFSETFROM:-0600
TZOFFSETTO:-0700
TZNAME:MST
DTSTART:20241103T080000
END:STANDARD
BEGIN:DAYLIGHT
TZOFFSETFROM:-0700
TZOFFSETTO:-0600
TZNAME:MDT
DTSTART:20250309T090000
END:DAYLIGHT
BEGIN:STANDARD
TZOFFSETFROM:-0600
TZOFFSETTO:-0700
TZNAME:MST
DTSTART:20251102T080000
END:STANDARD
BEGIN:DAYLIGHT
TZOFFSETFROM:-0700
TZOFFSETTO:-0600
TZNAME:MDT
DTSTART:20260308T090000
END:DAYLIGHT
BEGIN:STANDARD
TZOFFSETFROM:-0600
TZOFFSETTO:-0700
TZNAME:MST
DTSTART:20261101T080000
END:STANDARD
END:VTIMEZONE
BEGIN:VEVENT
DTSTART;VALUE=DATE:20251021
DTEND;VALUE=DATE:20251022
DTSTAMP:20260422T182743
CREATED:20250407T210138Z
LAST-MODIFIED:20250407T210138Z
UID:5543-1761004800-1761091199@abassacramento.com
SUMMARY:SacFala Annual Gala Oct. 21
DESCRIPTION:Sacramento Filipino American Lawyers Association (SacFALA) is the association of Fil-Am lawyers in the Sacramento area. Comprised of attorneys\, judges\, and law students\, it was formed to address the legal issues confronting the Filipino-American community and to meet the professional concerns of Filipino-American lawyers in the region. To get more information about the upcoming gala\, visit the SacFALA website.
URL:https://abassacramento.com/event/sacfala-annual-gala-oct-21/
END:VEVENT
BEGIN:VEVENT
DTSTART;TZID=America/Denver:20251021T173000
DTEND;TZID=America/Denver:20251021T203000
DTSTAMP:20260422T182743
CREATED:20250701T215950Z
LAST-MODIFIED:20250701T215950Z
UID:5603-1761067800-1761078600@abassacramento.com
SUMMARY:Unity Bar
DESCRIPTION:Save the date-Oct. 21.
URL:https://abassacramento.com/event/unity-bar/
END:VEVENT
BEGIN:VEVENT
DTSTART;TZID=America/Denver:20251028T173000
DTEND;TZID=America/Denver:20251028T203000
DTSTAMP:20260422T182743
CREATED:20250701T215815Z
LAST-MODIFIED:20250701T215815Z
UID:5601-1761672600-1761683400@abassacramento.com
SUMMARY:Save the Date: Oct 28 SacFALA Gala
DESCRIPTION:
URL:https://abassacramento.com/event/save-the-date-oct-28-sacfala-gala/
END:VEVENT
END:VCALENDAR