BEGIN:VCALENDAR
VERSION:2.0
PRODID:-//ABAS - ECPv6.15.20//NONSGML v1.0//EN
CALSCALE:GREGORIAN
METHOD:PUBLISH
X-WR-CALNAME:ABAS
X-ORIGINAL-URL:https://abassacramento.com
X-WR-CALDESC:Events for ABAS
REFRESH-INTERVAL;VALUE=DURATION:PT1H
X-Robots-Tag:noindex
X-PUBLISHED-TTL:PT1H
BEGIN:VTIMEZONE
TZID:America/Denver
BEGIN:DAYLIGHT
TZOFFSETFROM:-0700
TZOFFSETTO:-0600
TZNAME:MDT
DTSTART:20240310T090000
END:DAYLIGHT
BEGIN:STANDARD
TZOFFSETFROM:-0600
TZOFFSETTO:-0700
TZNAME:MST
DTSTART:20241103T080000
END:STANDARD
BEGIN:DAYLIGHT
TZOFFSETFROM:-0700
TZOFFSETTO:-0600
TZNAME:MDT
DTSTART:20250309T090000
END:DAYLIGHT
BEGIN:STANDARD
TZOFFSETFROM:-0600
TZOFFSETTO:-0700
TZNAME:MST
DTSTART:20251102T080000
END:STANDARD
BEGIN:DAYLIGHT
TZOFFSETFROM:-0700
TZOFFSETTO:-0600
TZNAME:MDT
DTSTART:20260308T090000
END:DAYLIGHT
BEGIN:STANDARD
TZOFFSETFROM:-0600
TZOFFSETTO:-0700
TZNAME:MST
DTSTART:20261101T080000
END:STANDARD
END:VTIMEZONE
BEGIN:VEVENT
DTSTART;TZID=America/Denver:20251028T173000
DTEND;TZID=America/Denver:20251028T203000
DTSTAMP:20260422T164855
CREATED:20250701T215815Z
LAST-MODIFIED:20250701T215815Z
UID:5601-1761672600-1761683400@abassacramento.com
SUMMARY:Save the Date: Oct 28 SacFALA Gala
DESCRIPTION:
URL:https://abassacramento.com/event/save-the-date-oct-28-sacfala-gala/
END:VEVENT
BEGIN:VEVENT
DTSTART;TZID=America/Denver:20251021T173000
DTEND;TZID=America/Denver:20251021T203000
DTSTAMP:20260422T164855
CREATED:20250701T215950Z
LAST-MODIFIED:20250701T215950Z
UID:5603-1761067800-1761078600@abassacramento.com
SUMMARY:Unity Bar
DESCRIPTION:Save the date-Oct. 21.
URL:https://abassacramento.com/event/unity-bar/
END:VEVENT
BEGIN:VEVENT
DTSTART;VALUE=DATE:20251021
DTEND;VALUE=DATE:20251022
DTSTAMP:20260422T164855
CREATED:20250407T210138Z
LAST-MODIFIED:20250407T210138Z
UID:5543-1761004800-1761091199@abassacramento.com
SUMMARY:SacFala Annual Gala Oct. 21
DESCRIPTION:Sacramento Filipino American Lawyers Association (SacFALA) is the association of Fil-Am lawyers in the Sacramento area. Comprised of attorneys\, judges\, and law students\, it was formed to address the legal issues confronting the Filipino-American community and to meet the professional concerns of Filipino-American lawyers in the region. To get more information about the upcoming gala\, visit the SacFALA website.
URL:https://abassacramento.com/event/sacfala-annual-gala-oct-21/
END:VEVENT
BEGIN:VEVENT
DTSTART;TZID=America/Denver:20250917T173000
DTEND;TZID=America/Denver:20250917T200000
DTSTAMP:20260422T164855
CREATED:20250407T203308Z
LAST-MODIFIED:20250407T203308Z
UID:5526-1758130200-1758139200@abassacramento.com
SUMMARY:2025 ABAS Annual Gala
DESCRIPTION:
URL:https://abassacramento.com/event/2025-abas-annual-gala/
END:VEVENT
BEGIN:VEVENT
DTSTART;TZID=America/Denver:20250906T130000
DTEND;TZID=America/Denver:20250906T160000
DTSTAMP:20260422T164855
CREATED:20250407T210933Z
LAST-MODIFIED:20250407T211327Z
UID:5546-1757163600-1757174400@abassacramento.com
SUMMARY:SABA Law Student Diversity Reception Sept. 6
DESCRIPTION:
URL:https://abassacramento.com/event/saba-law-student-diversity-reception-sept-6/
END:VEVENT
BEGIN:VEVENT
DTSTART;TZID=America/Denver:20250726T130000
DTEND;TZID=America/Denver:20250726T150000
DTSTAMP:20260422T164855
CREATED:20250618T165254Z
LAST-MODIFIED:20250618T165254Z
UID:5595-1753534800-1753542000@abassacramento.com
SUMMARY:Sacramento Premiere - League of Dreams
DESCRIPTION:
URL:https://abassacramento.com/event/sacramento-premiere-league-of-dreams/
END:VEVENT
BEGIN:VEVENT
DTSTART;TZID=America/Denver:20250723T120000
DTEND;TZID=America/Denver:20250723T133000
DTSTAMP:20260422T164855
CREATED:20250720T135429Z
LAST-MODIFIED:20250720T135429Z
UID:5605-1753272000-1753277400@abassacramento.com
SUMMARY:Birthright Citizenship MCLE
DESCRIPTION:ABAS & LMFBA Joint MCLE – Birthright Citizenship\, Past & Present \nRegister Here! \nFREE for law students.
URL:https://abassacramento.com/event/birthright-citizenship-mcle/
END:VEVENT
BEGIN:VEVENT
DTSTART;TZID=America/Denver:20250529T163000
DTEND;TZID=America/Denver:20250529T183000
DTSTAMP:20260422T164855
CREATED:20250501T180806Z
LAST-MODIFIED:20250522T180341Z
UID:5560-1748536200-1748543400@abassacramento.com
SUMMARY:ABAS MCLE
DESCRIPTION:Please register through the Sacramento County Bar Association.
URL:https://abassacramento.com/event/abas-mcle/
END:VEVENT
BEGIN:VEVENT
DTSTART;TZID=America/Denver:20250520T170000
DTEND;TZID=America/Denver:20250520T190000
DTSTAMP:20260422T164855
CREATED:20250501T181221Z
LAST-MODIFIED:20250501T181221Z
UID:5563-1747760400-1747767600@abassacramento.com
SUMMARY:Joint Mixer with Wiley Manuel & CA Lawyers Association
DESCRIPTION:Join California Lawyers Association\, Wiley Manuel and ABAS on May 20th for a special mixer!
URL:https://abassacramento.com/event/joint-mixer-with-wiley-manuel-ca-lawyers-association/
END:VEVENT
BEGIN:VEVENT
DTSTART;TZID=America/Denver:20250519T173000
DTEND;TZID=America/Denver:20250519T200000
DTSTAMP:20260422T164855
CREATED:20250407T211952Z
LAST-MODIFIED:20250407T211952Z
UID:5551-1747675800-1747684800@abassacramento.com
SUMMARY:My Sister's House Annual Gala-May 19th
DESCRIPTION:Buy tickets for MSH annual gala HERE.
URL:https://abassacramento.com/event/my-sisters-house-annual-gala-may-19th/
END:VEVENT
BEGIN:VEVENT
DTSTART;TZID=America/Denver:20250506T121500
DTEND;TZID=America/Denver:20250506T121500
DTSTAMP:20260422T164855
CREATED:20250501T182031Z
LAST-MODIFIED:20250502T041033Z
UID:5567-1746533700-1746533700@abassacramento.com
SUMMARY:Sacramento Superior Court Presents "Diverse Asian Community"
DESCRIPTION:The Court will present a training discussion  Tuesday May 6\, 2025\, at 12:15 pm. This presentation will have panelists discussing the Diverse Asian Community\, bringing awareness of the cultures and implicit bias experienced in these communities. Presenters include former ABAS President and current Judicial Appointments/Advocacy & Issues Committee Member Joshua Kaizuka and Public Defender and SacFALA member JoAnn Virata. \nPlease join via Zoom.
URL:https://abassacramento.com/event/sacramento-superior-court-presents-diverse-asian-community/
END:VEVENT
BEGIN:VEVENT
DTSTART;TZID=America/Denver:20250503T183500
DTEND;TZID=America/Denver:20250503T203000
DTSTAMP:20260422T164855
CREATED:20250407T204013Z
LAST-MODIFIED:20250407T204013Z
UID:5532-1746297300-1746304200@abassacramento.com
SUMMARY:API Night @ River Cats May 3rd!
DESCRIPTION:Get your tickets: rivercatsgroups.com/abas
URL:https://abassacramento.com/event/api-night-river-cats-may-3rd/
END:VEVENT
BEGIN:VEVENT
DTSTART;TZID=America/Denver:20250428T080000
DTEND;TZID=America/Denver:20250428T170000
DTSTAMP:20260422T164855
CREATED:20250407T204725Z
LAST-MODIFIED:20250407T204747Z
UID:5538-1745827200-1745859600@abassacramento.com
SUMMARY:CA APABA-2nd Annual Advocacy Day
DESCRIPTION:Register here: https://www.apapa.org/upcoming-events/2nd-annual-ca-aanhpi-capitol-day \n \n 
URL:https://abassacramento.com/event/ca-apaba-2nd-annual-advocacy-day/
END:VEVENT
BEGIN:VEVENT
DTSTART;TZID=America/Denver:20250417T173000
DTEND;TZID=America/Denver:20250417T190000
DTSTAMP:20260422T164855
CREATED:20250407T203744Z
LAST-MODIFIED:20250407T203744Z
UID:5529-1744911000-1744916400@abassacramento.com
SUMMARY:Boba Mixer Apr. 17-RSVP Only!
DESCRIPTION:Join ABAS for a Boba Mixer April 17th in Natomas! Please RSVP to abassacramento [at] gmail.com or text (916) 281-9363.
URL:https://abassacramento.com/event/boba-mixer-apr-17-rsvp-only/
END:VEVENT
BEGIN:VEVENT
DTSTART;TZID=America/Denver:20250417T133000
DTEND;TZID=America/Denver:20250417T143000
DTSTAMP:20260422T164855
CREATED:20250407T204300Z
LAST-MODIFIED:20250407T204300Z
UID:5535-1744896600-1744900200@abassacramento.com
SUMMARY:April 17-Inspiring Action: Japanese Incarceration
DESCRIPTION:
URL:https://abassacramento.com/event/april-17-inspiring-action-japanese-incarceration/
END:VEVENT
END:VCALENDAR