BEGIN:VCALENDAR
VERSION:2.0
PRODID:-//ABAS - ECPv6.15.20//NONSGML v1.0//EN
CALSCALE:GREGORIAN
METHOD:PUBLISH
X-WR-CALNAME:ABAS
X-ORIGINAL-URL:https://abassacramento.com
X-WR-CALDESC:Events for ABAS
REFRESH-INTERVAL;VALUE=DURATION:PT1H
X-Robots-Tag:noindex
X-PUBLISHED-TTL:PT1H
BEGIN:VTIMEZONE
TZID:America/Denver
BEGIN:DAYLIGHT
TZOFFSETFROM:-0700
TZOFFSETTO:-0600
TZNAME:MDT
DTSTART:20250309T090000
END:DAYLIGHT
BEGIN:STANDARD
TZOFFSETFROM:-0600
TZOFFSETTO:-0700
TZNAME:MST
DTSTART:20251102T080000
END:STANDARD
BEGIN:DAYLIGHT
TZOFFSETFROM:-0700
TZOFFSETTO:-0600
TZNAME:MDT
DTSTART:20260308T090000
END:DAYLIGHT
BEGIN:STANDARD
TZOFFSETFROM:-0600
TZOFFSETTO:-0700
TZNAME:MST
DTSTART:20261101T080000
END:STANDARD
BEGIN:DAYLIGHT
TZOFFSETFROM:-0700
TZOFFSETTO:-0600
TZNAME:MDT
DTSTART:20270314T090000
END:DAYLIGHT
BEGIN:STANDARD
TZOFFSETFROM:-0600
TZOFFSETTO:-0700
TZNAME:MST
DTSTART:20271107T080000
END:STANDARD
END:VTIMEZONE
BEGIN:VTIMEZONE
TZID:America/Los_Angeles
BEGIN:DAYLIGHT
TZOFFSETFROM:-0800
TZOFFSETTO:-0700
TZNAME:PDT
DTSTART:20250309T100000
END:DAYLIGHT
BEGIN:STANDARD
TZOFFSETFROM:-0700
TZOFFSETTO:-0800
TZNAME:PST
DTSTART:20251102T090000
END:STANDARD
BEGIN:DAYLIGHT
TZOFFSETFROM:-0800
TZOFFSETTO:-0700
TZNAME:PDT
DTSTART:20260308T100000
END:DAYLIGHT
BEGIN:STANDARD
TZOFFSETFROM:-0700
TZOFFSETTO:-0800
TZNAME:PST
DTSTART:20261101T090000
END:STANDARD
BEGIN:DAYLIGHT
TZOFFSETFROM:-0800
TZOFFSETTO:-0700
TZNAME:PDT
DTSTART:20270314T100000
END:DAYLIGHT
BEGIN:STANDARD
TZOFFSETFROM:-0700
TZOFFSETTO:-0800
TZNAME:PST
DTSTART:20271107T090000
END:STANDARD
END:VTIMEZONE
BEGIN:VEVENT
DTSTART;TZID=America/Denver:20260424T173000
DTEND;TZID=America/Denver:20260424T200000
DTSTAMP:20260419T190158
CREATED:20260319T034646Z
LAST-MODIFIED:20260319T034646Z
UID:5787-1777051800-1777060800@abassacramento.com
SUMMARY:SacFala 2nd Annual Adobo Cook-Off
DESCRIPTION:
URL:https://abassacramento.com/event/sacfala-2nd-annual-adobo-cook-off/
END:VEVENT
BEGIN:VEVENT
DTSTART;TZID=America/Denver:20260506T173000
DTEND;TZID=America/Denver:20260506T203000
DTSTAMP:20260419T190158
CREATED:20260319T034910Z
LAST-MODIFIED:20260319T034910Z
UID:5789-1778088600-1778099400@abassacramento.com
SUMMARY:Operation Protect & Defend's Law Day Dinner Award Ceremony
DESCRIPTION:Operation Protect & Defend’s Annual Law Day Award Ceremony is to recognize local high school student winners of OPD’s essay and art contests. Please join as we come together again to commemorate our 24th year of celebrating civics! \nRegistration Fee: $90 \nRegister here: https://www.opdcivics.org/law-day-dinner-guest-registration-2026/
URL:https://abassacramento.com/event/operation-protect-defends-law-day-dinner-award-ceremony/
LOCATION:Double Tree Hotel\, 2001 Point West Way\, Sacramento\, CA\, United States
END:VEVENT
BEGIN:VEVENT
DTSTART;TZID=America/Denver:20260514T170000
DTEND;TZID=America/Denver:20260514T200000
DTSTAMP:20260419T190158
CREATED:20260319T034958Z
LAST-MODIFIED:20260319T034958Z
UID:5792-1778778000-1778788800@abassacramento.com
SUMMARY:SCBA Bench Bar Reception
DESCRIPTION:
URL:https://abassacramento.com/event/scba-bench-bar-reception/
LOCATION:Hyatt Regency
END:VEVENT
BEGIN:VEVENT
DTSTART;TZID=America/Denver:20260523T090000
DTEND;TZID=America/Denver:20260523T170000
DTSTAMP:20260419T190158
CREATED:20260319T035052Z
LAST-MODIFIED:20260319T035052Z
UID:5795-1779526800-1779555600@abassacramento.com
SUMMARY:Iu Mien American 50th Anniversary Celebration
DESCRIPTION:
URL:https://abassacramento.com/event/iu-mien-american-50th-anniversary-celebration/
LOCATION:Hiram Johnson High School\, 6879 14th Avenue\, Sacramento\, CA\, United States
END:VEVENT
BEGIN:VEVENT
DTSTART;VALUE=DATE:20261112
DTEND;VALUE=DATE:20261116
DTSTAMP:20260419T190158
CREATED:20260222T205937Z
LAST-MODIFIED:20260222T205937Z
UID:5637-1794441600-1794787199@abassacramento.com
SUMMARY:2026 NAPABA Convention
DESCRIPTION:
URL:https://abassacramento.com/event/2026-napaba-convention/
END:VEVENT
END:VCALENDAR