BEGIN:VCALENDAR
VERSION:2.0
PRODID:-//ABAS - ECPv6.15.20//NONSGML v1.0//EN
CALSCALE:GREGORIAN
METHOD:PUBLISH
X-ORIGINAL-URL:https://abassacramento.com
X-WR-CALDESC:Events for ABAS
REFRESH-INTERVAL;VALUE=DURATION:PT1H
X-Robots-Tag:noindex
X-PUBLISHED-TTL:PT1H
BEGIN:VTIMEZONE
TZID:America/Denver
BEGIN:DAYLIGHT
TZOFFSETFROM:-0700
TZOFFSETTO:-0600
TZNAME:MDT
DTSTART:20250309T090000
END:DAYLIGHT
BEGIN:STANDARD
TZOFFSETFROM:-0600
TZOFFSETTO:-0700
TZNAME:MST
DTSTART:20251102T080000
END:STANDARD
BEGIN:DAYLIGHT
TZOFFSETFROM:-0700
TZOFFSETTO:-0600
TZNAME:MDT
DTSTART:20260308T090000
END:DAYLIGHT
BEGIN:STANDARD
TZOFFSETFROM:-0600
TZOFFSETTO:-0700
TZNAME:MST
DTSTART:20261101T080000
END:STANDARD
BEGIN:DAYLIGHT
TZOFFSETFROM:-0700
TZOFFSETTO:-0600
TZNAME:MDT
DTSTART:20270314T090000
END:DAYLIGHT
BEGIN:STANDARD
TZOFFSETFROM:-0600
TZOFFSETTO:-0700
TZNAME:MST
DTSTART:20271107T080000
END:STANDARD
END:VTIMEZONE
BEGIN:VEVENT
DTSTART;TZID=America/Denver:20260506T173000
DTEND;TZID=America/Denver:20260506T203000
DTSTAMP:20260422T121921
CREATED:20260319T034910Z
LAST-MODIFIED:20260319T034910Z
UID:5789-1778088600-1778099400@abassacramento.com
SUMMARY:Operation Protect & Defend's Law Day Dinner Award Ceremony
DESCRIPTION:Operation Protect & Defend’s Annual Law Day Award Ceremony is to recognize local high school student winners of OPD’s essay and art contests. Please join as we come together again to commemorate our 24th year of celebrating civics! \nRegistration Fee: $90 \nRegister here: https://www.opdcivics.org/law-day-dinner-guest-registration-2026/
URL:https://abassacramento.com/event/operation-protect-defends-law-day-dinner-award-ceremony/
LOCATION:Double Tree Hotel\, 2001 Point West Way\, Sacramento\, CA\, United States
END:VEVENT
END:VCALENDAR