BEGIN:VCALENDAR
VERSION:2.0
PRODID:-//ABAS - ECPv6.15.20//NONSGML v1.0//EN
CALSCALE:GREGORIAN
METHOD:PUBLISH
X-WR-CALNAME:ABAS
X-ORIGINAL-URL:https://abassacramento.com
X-WR-CALDESC:Events for ABAS
REFRESH-INTERVAL;VALUE=DURATION:PT1H
X-Robots-Tag:noindex
X-PUBLISHED-TTL:PT1H
BEGIN:VTIMEZONE
TZID:America/Denver
BEGIN:DAYLIGHT
TZOFFSETFROM:-0700
TZOFFSETTO:-0600
TZNAME:MDT
DTSTART:20250309T090000
END:DAYLIGHT
BEGIN:STANDARD
TZOFFSETFROM:-0600
TZOFFSETTO:-0700
TZNAME:MST
DTSTART:20251102T080000
END:STANDARD
BEGIN:DAYLIGHT
TZOFFSETFROM:-0700
TZOFFSETTO:-0600
TZNAME:MDT
DTSTART:20260308T090000
END:DAYLIGHT
BEGIN:STANDARD
TZOFFSETFROM:-0600
TZOFFSETTO:-0700
TZNAME:MST
DTSTART:20261101T080000
END:STANDARD
BEGIN:DAYLIGHT
TZOFFSETFROM:-0700
TZOFFSETTO:-0600
TZNAME:MDT
DTSTART:20270314T090000
END:DAYLIGHT
BEGIN:STANDARD
TZOFFSETFROM:-0600
TZOFFSETTO:-0700
TZNAME:MST
DTSTART:20271107T080000
END:STANDARD
END:VTIMEZONE
BEGIN:VEVENT
DTSTART;TZID=America/Denver:20260410T090000
DTEND;TZID=America/Denver:20260410T150000
DTSTAMP:20260422T105518
CREATED:20260319T034517Z
LAST-MODIFIED:20260319T034517Z
UID:5781-1775811600-1775833200@abassacramento.com
SUMMARY:Community Service Event
DESCRIPTION:The Eastern District Court is seeking local practitioners to provide pro bono assistance with cases in the Eastern District. \nVolunteers must attend a lunch hour training scheduled at McGeorge or UC Davis the week before the Self Help Day. \nHours are two hour sessions from 9-11am\, 11am-1pm\, 1-3pm \nRegister to volunteer by emailing Sujean at Spark@caed.uscourts.gov
URL:https://abassacramento.com/event/community-service-event/
LOCATION:Justice Kennedy Learnng Center US Federal Courthouse\, 501 I Street\, 1st Floor\, Sacramento\, CA\, 95814\, United States
END:VEVENT
BEGIN:VEVENT
DTSTART;TZID=America/Denver:20260410T180000
DTEND;TZID=America/Denver:20260410T210000
DTSTAMP:20260422T105518
CREATED:20260319T034606Z
LAST-MODIFIED:20260319T034606Z
UID:5784-1775844000-1775854800@abassacramento.com
SUMMARY:UC Davis FLSA Fil Grad Gala
DESCRIPTION:
URL:https://abassacramento.com/event/uc-davis-flsa-fil-grad-gala/
LOCATION:Sterling Hotel
END:VEVENT
END:VCALENDAR